BEGIN:VCALENDAR
VERSION:2.0
PRODID:-//Åre Skärm &amp; Drakflygklubb - ECPv6.13.2.1//NONSGML v1.0//EN
CALSCALE:GREGORIAN
METHOD:PUBLISH
X-WR-CALNAME:Åre Skärm &amp; Drakflygklubb
X-ORIGINAL-URL:https://flygare.nu
X-WR-CALDESC:Events for Åre Skärm &amp; Drakflygklubb
REFRESH-INTERVAL;VALUE=DURATION:PT1H
X-Robots-Tag:noindex
X-PUBLISHED-TTL:PT1H
BEGIN:VTIMEZONE
TZID:Europe/Stockholm
BEGIN:DAYLIGHT
TZOFFSETFROM:+0100
TZOFFSETTO:+0200
TZNAME:CEST
DTSTART:20210328T010000
END:DAYLIGHT
BEGIN:STANDARD
TZOFFSETFROM:+0200
TZOFFSETTO:+0100
TZNAME:CET
DTSTART:20211031T010000
END:STANDARD
END:VTIMEZONE
BEGIN:VEVENT
DTSTART;TZID=Europe/Stockholm:20210515T180000
DTEND;TZID=Europe/Stockholm:20210515T210000
DTSTAMP:20260422T163041
CREATED:20210425T121629Z
LAST-MODIFIED:20210425T130301Z
UID:1174-1621101600-1621112400@flygare.nu
SUMMARY:Grillkväll på Draklanda
DESCRIPTION:
URL:https://flygare.nu/event/grillkvall-pa-draklanda/
LOCATION:Draklanda\, Årevägen 173\, Åre\, Sverige
CATEGORIES:Klubbaktivitet
ORGANIZER;CN="%C3%85re SDFK":MAILTO:kontrolltorn@flygare.nu
END:VEVENT
END:VCALENDAR