BEGIN:VCALENDAR
VERSION:2.0
PRODID:-//Åre Skärm &amp; Drakflygklubb - ECPv6.13.2.1//NONSGML v1.0//EN
CALSCALE:GREGORIAN
METHOD:PUBLISH
X-WR-CALNAME:Åre Skärm &amp; Drakflygklubb
X-ORIGINAL-URL:https://flygare.nu
X-WR-CALDESC:Events for Åre Skärm &amp; Drakflygklubb
REFRESH-INTERVAL;VALUE=DURATION:PT1H
X-Robots-Tag:noindex
X-PUBLISHED-TTL:PT1H
BEGIN:VTIMEZONE
TZID:Europe/Stockholm
BEGIN:DAYLIGHT
TZOFFSETFROM:+0100
TZOFFSETTO:+0200
TZNAME:CEST
DTSTART:20220327T010000
END:DAYLIGHT
BEGIN:STANDARD
TZOFFSETFROM:+0200
TZOFFSETTO:+0100
TZNAME:CET
DTSTART:20221030T010000
END:STANDARD
END:VTIMEZONE
BEGIN:VEVENT
DTSTART;TZID=Europe/Stockholm:20220430T183000
DTEND;TZID=Europe/Stockholm:20220430T233000
DTSTAMP:20260419T173550
CREATED:20220405T134049Z
LAST-MODIFIED:20220405T140644Z
UID:1461-1651343400-1651361400@flygare.nu
SUMMARY:Vinterns säsongsavslutning med prisutdelning
DESCRIPTION:Hallå alla skärmflygdårar!\nVintersäsongen närmar sig sitt slut\, och ÅSDFK bjuder in till en säsongsavslutning.\nKlubben fixar snacks\, dryck och brasa. Ta med det som du vill grilla\, önskar man dricka alkoholhaltigt så tar man med det själv.\nI sedvanlig ordning så kommer pris för första topplandning att delas ut till P1 och P2 🍾\nDet blir en bildvisning med era finaste flygbilder från den gångna säsongen. Även här kommer en vinnare utses och belönas med ett pris.\n!!OBS!!\nSkicka in era bilder till:\nWhatsapp 073-027 24 99 👍🏼\nKom och njut av en trevlig kväll\, så laddar vi om för ännu en underbar sommarsäsong!🌞\nPreliminärt datum är lördag den 30:e april. Vid dåligt väder flyttas det till dagen innan fredag den 29:e april. Tid: 18:30.
URL:https://flygare.nu/event/vinterns-sasongsavslutning-med-prisutdelning/
CATEGORIES:Klubbaktivitet
ORGANIZER;CN="%C3%85re SDFK":MAILTO:kontrolltorn@flygare.nu
END:VEVENT
END:VCALENDAR